BEGIN:VCALENDAR
VERSION:2.0
PRODID:-//Asociaţia Grup de Acţiune Locală Euro-Crişana, judeţul Bihor - ECPv6.15.20//NONSGML v1.0//EN
CALSCALE:GREGORIAN
METHOD:PUBLISH
X-ORIGINAL-URL:https://gal-eurocrisana.ro
X-WR-CALDESC:Evenimente pentru Asociaţia Grup de Acţiune Locală Euro-Crişana, judeţul Bihor
REFRESH-INTERVAL;VALUE=DURATION:PT1H
X-Robots-Tag:noindex
X-PUBLISHED-TTL:PT1H
BEGIN:VTIMEZONE
TZID:Europe/Bucharest
BEGIN:DAYLIGHT
TZOFFSETFROM:+0200
TZOFFSETTO:+0300
TZNAME:EEST
DTSTART:20240331T010000
END:DAYLIGHT
BEGIN:STANDARD
TZOFFSETFROM:+0300
TZOFFSETTO:+0200
TZNAME:EET
DTSTART:20241027T010000
END:STANDARD
BEGIN:DAYLIGHT
TZOFFSETFROM:+0200
TZOFFSETTO:+0300
TZNAME:EEST
DTSTART:20250330T010000
END:DAYLIGHT
BEGIN:STANDARD
TZOFFSETFROM:+0300
TZOFFSETTO:+0200
TZNAME:EET
DTSTART:20251026T010000
END:STANDARD
BEGIN:DAYLIGHT
TZOFFSETFROM:+0200
TZOFFSETTO:+0300
TZNAME:EEST
DTSTART:20260329T010000
END:DAYLIGHT
BEGIN:STANDARD
TZOFFSETFROM:+0300
TZOFFSETTO:+0200
TZNAME:EET
DTSTART:20261025T010000
END:STANDARD
END:VTIMEZONE
BEGIN:VEVENT
DTSTART;TZID=Europe/Bucharest:20251114T170000
DTEND;TZID=Europe/Bucharest:20251114T200000
DTSTAMP:20260420T070118
CREATED:20251103T205233Z
LAST-MODIFIED:20251103T205758Z
UID:8997-1763139600-1763150400@gal-eurocrisana.ro
SUMMARY:INVITAŢIE LA IMPLICARE ÎMPREUNĂ PENTRU DEZVOLTAREA LOCALĂ A COMUNITĂŢII TINCA
DESCRIPTION:Implică-te activ în implementarea Strategiei de Dezvoltare Locală Multifond a comunelor Cociuba Mare\, Mădăras\, Olcea\, Şoimi şi Tinca. \nVino să afli cum poţi transforma ideile tale în proiecte reale\, cu finanţare europeană!\nPentru că implicarea ta contează şi poate aduce rezultate concrete pentru tine şi pentru comunitatea din care faci parte: \n\n\nresurse financiare semnificative ce pot fi atrase în teritoriu prin proiecte viabile şi bine fundamentate; \n\n\nsprijin real pentru dezvoltarea afacerii tale\, prin consiliere\, orientare şi oportunităţi adaptate mediului local; \n\n\nposibilitatea de a contribui direct la prosperitatea zonei\, prin idei şi iniţiative care generează progres şi coeziune socială. \n\n\nParticipând la întâlniri\, vei avea acces direct la INFORMAȚII ACTUALIZATE ŞI RELEVANTE DESPRE OPORTUNITĂȚILE DE FINANȚARE \nParticiparea este liberă și deschisă tuturor persoanelor interesate: reprezentanți ai autorităților locale\, antreprenori\, ONG-uri\, tineri\, femei și orice membru al comunității\, fiind bineveniţi toţi cei care doresc să se implice activ în dezvoltarea durabilă a comunităţii locale. \nÎmpreună\, putem construi un viitor mai bun pentru întreaga zonă Euro-Crişana. \nDacă nu poţi participa fizic la întâlniri şi/sau doreşti să contribui suplimentar\, vocea ta contează! \nNe poţi transmite în scris idei\, propuneri\, observații şi/sau solicitare de informaţii la adresa de email: parteneriat.eurocrisana@gmail.com. \nOrice sugestie este importantă\, fie că propui un proiect\, semnalezi o nevoie locală sau exprimi o opinie\, contribuţia ta ajută la îmbunătăţirea şi implementarea eficientă a Strategiei de Dezvoltare Locală Multifond 2023-2027.
URL:https://gal-eurocrisana.ro/calendar/invitatie-la-implicare-impreuna-pentru-dezvoltarea-locala-a-comunitatii-tinca/
LOCATION:Primaria Tinca\, str. Armatei Romane nr. 2\, Tinca\, Bihor\, Romania
ATTACH;FMTTYPE=image/jpeg:https://gal-eurocrisana.ro/wp-content/uploads/2025/11/WhatsApp-Image-2025-11-03-at-19.18.28.jpeg
END:VEVENT
BEGIN:VEVENT
DTSTART;TZID=Europe/Bucharest:20251113T170000
DTEND;TZID=Europe/Bucharest:20251113T200000
DTSTAMP:20260420T070118
CREATED:20251103T205201Z
LAST-MODIFIED:20251103T205201Z
UID:8995-1763053200-1763064000@gal-eurocrisana.ro
SUMMARY:INVITAŢIE LA IMPLICARE ÎMPREUNĂ PENTRU DEZVOLTAREA LOCALĂ A COMUNITĂŢII SOIMI
DESCRIPTION:Implică-te activ în implementarea Strategiei de Dezvoltare Locală Multifond a comunelor Cociuba Mare\, Mădăras\, Olcea\, Şoimi şi Tinca. \nVino să afli cum poţi transforma ideile tale în proiecte reale\, cu finanţare europeană!\nPentru că implicarea ta contează şi poate aduce rezultate concrete pentru tine şi pentru comunitatea din care faci parte: \n\n\nresurse financiare semnificative ce pot fi atrase în teritoriu prin proiecte viabile şi bine fundamentate; \n\n\nsprijin real pentru dezvoltarea afacerii tale\, prin consiliere\, orientare şi oportunităţi adaptate mediului local; \n\n\nposibilitatea de a contribui direct la prosperitatea zonei\, prin idei şi iniţiative care generează progres şi coeziune socială. \n\n\nParticipând la întâlniri\, vei avea acces direct la INFORMAȚII ACTUALIZATE ŞI RELEVANTE DESPRE OPORTUNITĂȚILE DE FINANȚARE \nParticiparea este liberă și deschisă tuturor persoanelor interesate: reprezentanți ai autorităților locale\, antreprenori\, ONG-uri\, tineri\, femei și orice membru al comunității\, fiind bineveniţi toţi cei care doresc să se implice activ în dezvoltarea durabilă a comunităţii locale. \nÎmpreună\, putem construi un viitor mai bun pentru întreaga zonă Euro-Crişana. \nDacă nu poţi participa fizic la întâlniri şi/sau doreşti să contribui suplimentar\, vocea ta contează! \nNe poţi transmite în scris idei\, propuneri\, observații şi/sau solicitare de informaţii la adresa de email: parteneriat.eurocrisana@gmail.com. \nOrice sugestie este importantă\, fie că propui un proiect\, semnalezi o nevoie locală sau exprimi o opinie\, contribuţia ta ajută la îmbunătăţirea şi implementarea eficientă a Strategiei de Dezvoltare Locală Multifond 2023-2027.
URL:https://gal-eurocrisana.ro/calendar/invitatie-la-implicare-impreuna-pentru-dezvoltarea-locala-a-comunitatii-soimi/
LOCATION:Primaria Soimi\, str. Principala nr. 39\, Soimi\, Bihor\, Romania
ATTACH;FMTTYPE=image/jpeg:https://gal-eurocrisana.ro/wp-content/uploads/2025/11/WhatsApp-Image-2025-11-03-at-19.18.28.jpeg
END:VEVENT
BEGIN:VEVENT
DTSTART;TZID=Europe/Bucharest:20251112T170000
DTEND;TZID=Europe/Bucharest:20251112T200000
DTSTAMP:20260420T070118
CREATED:20251103T205109Z
LAST-MODIFIED:20251103T205127Z
UID:8993-1762966800-1762977600@gal-eurocrisana.ro
SUMMARY:INVITAŢIE LA IMPLICARE ÎMPREUNĂ PENTRU DEZVOLTAREA LOCALĂ A COMUNITĂŢII OLCEA
DESCRIPTION:Implică-te activ în implementarea Strategiei de Dezvoltare Locală Multifond a comunelor Cociuba Mare\, Mădăras\, Olcea\, Şoimi şi Tinca. \nVino să afli cum poţi transforma ideile tale în proiecte reale\, cu finanţare europeană!\nPentru că implicarea ta contează şi poate aduce rezultate concrete pentru tine şi pentru comunitatea din care faci parte: \n\n\nresurse financiare semnificative ce pot fi atrase în teritoriu prin proiecte viabile şi bine fundamentate; \n\n\nsprijin real pentru dezvoltarea afacerii tale\, prin consiliere\, orientare şi oportunităţi adaptate mediului local; \n\n\nposibilitatea de a contribui direct la prosperitatea zonei\, prin idei şi iniţiative care generează progres şi coeziune socială. \n\n\nParticipând la întâlniri\, vei avea acces direct la INFORMAȚII ACTUALIZATE ŞI RELEVANTE DESPRE OPORTUNITĂȚILE DE FINANȚARE \nParticiparea este liberă și deschisă tuturor persoanelor interesate: reprezentanți ai autorităților locale\, antreprenori\, ONG-uri\, tineri\, femei și orice membru al comunității\, fiind bineveniţi toţi cei care doresc să se implice activ în dezvoltarea durabilă a comunităţii locale. \nÎmpreună\, putem construi un viitor mai bun pentru întreaga zonă Euro-Crişana. \nDacă nu poţi participa fizic la întâlniri şi/sau doreşti să contribui suplimentar\, vocea ta contează! \nNe poţi transmite în scris idei\, propuneri\, observații şi/sau solicitare de informaţii la adresa de email: parteneriat.eurocrisana@gmail.com. \nOrice sugestie este importantă\, fie că propui un proiect\, semnalezi o nevoie locală sau exprimi o opinie\, contribuţia ta ajută la îmbunătăţirea şi implementarea eficientă a Strategiei de Dezvoltare Locală Multifond 2023-2027.
URL:https://gal-eurocrisana.ro/calendar/invitatie-la-implicare-impreuna-pentru-dezvoltarea-locala-a-comunitatii-olcea/
LOCATION:Scoala din Olcea\, str. Principala nr. 229\, Olcea\, Bihor\, Romania
ATTACH;FMTTYPE=image/jpeg:https://gal-eurocrisana.ro/wp-content/uploads/2025/11/WhatsApp-Image-2025-11-03-at-19.18.28.jpeg
END:VEVENT
BEGIN:VEVENT
DTSTART;TZID=Europe/Bucharest:20251111T170000
DTEND;TZID=Europe/Bucharest:20251111T200000
DTSTAMP:20260420T070118
CREATED:20251103T205001Z
LAST-MODIFIED:20251103T205127Z
UID:8991-1762880400-1762891200@gal-eurocrisana.ro
SUMMARY:INVITAŢIE LA IMPLICARE ÎMPREUNĂ PENTRU DEZVOLTAREA LOCALĂ A COMUNITĂŢII Madaras
DESCRIPTION:Implică-te activ în implementarea Strategiei de Dezvoltare Locală Multifond a comunelor Cociuba Mare\, Mădăras\, Olcea\, Şoimi şi Tinca. \nVino să afli cum poţi transforma ideile tale în proiecte reale\, cu finanţare europeană!\nPentru că implicarea ta contează şi poate aduce rezultate concrete pentru tine şi pentru comunitatea din care faci parte: \n\n\nresurse financiare semnificative ce pot fi atrase în teritoriu prin proiecte viabile şi bine fundamentate; \n\n\nsprijin real pentru dezvoltarea afacerii tale\, prin consiliere\, orientare şi oportunităţi adaptate mediului local; \n\n\nposibilitatea de a contribui direct la prosperitatea zonei\, prin idei şi iniţiative care generează progres şi coeziune socială. \n\n\nParticipând la întâlniri\, vei avea acces direct la INFORMAȚII ACTUALIZATE ŞI RELEVANTE DESPRE OPORTUNITĂȚILE DE FINANȚARE \nParticiparea este liberă și deschisă tuturor persoanelor interesate: reprezentanți ai autorităților locale\, antreprenori\, ONG-uri\, tineri\, femei și orice membru al comunității\, fiind bineveniţi toţi cei care doresc să se implice activ în dezvoltarea durabilă a comunităţii locale. \nÎmpreună\, putem construi un viitor mai bun pentru întreaga zonă Euro-Crişana. \nDacă nu poţi participa fizic la întâlniri şi/sau doreşti să contribui suplimentar\, vocea ta contează! \nNe poţi transmite în scris idei\, propuneri\, observații şi/sau solicitare de informaţii la adresa de email: parteneriat.eurocrisana@gmail.com. \nOrice sugestie este importantă\, fie că propui un proiect\, semnalezi o nevoie locală sau exprimi o opinie\, contribuţia ta ajută la îmbunătăţirea şi implementarea eficientă a Strategiei de Dezvoltare Locală Multifond 2023-2027.
URL:https://gal-eurocrisana.ro/calendar/invitatie-la-implicare-impreuna-pentru-dezvoltarea-locala-a-comunitatii-madaras/
LOCATION:Caminul Cultural Madaras\, str. Principala nr. 222\, Madaras\, Bihor\, Romania
ATTACH;FMTTYPE=image/jpeg:https://gal-eurocrisana.ro/wp-content/uploads/2025/11/WhatsApp-Image-2025-11-03-at-19.18.28.jpeg
END:VEVENT
BEGIN:VEVENT
DTSTART;TZID=Europe/Bucharest:20251110T170000
DTEND;TZID=Europe/Bucharest:20251110T200000
DTSTAMP:20260420T070118
CREATED:20251103T201125Z
LAST-MODIFIED:20251103T205127Z
UID:8974-1762794000-1762804800@gal-eurocrisana.ro
SUMMARY:INVITAŢIE LA IMPLICARE ÎMPREUNĂ PENTRU DEZVOLTAREA LOCALĂ A COMUNITĂŢII COCIUBA MARE
DESCRIPTION:Implică-te activ în implementarea Strategiei de Dezvoltare Locală Multifond a comunelor Cociuba Mare\, Mădăras\, Olcea\, Şoimi şi Tinca. \nVino să afli cum poţi transforma ideile tale în proiecte reale\, cu finanţare europeană!\nPentru că implicarea ta contează şi poate aduce rezultate concrete pentru tine şi pentru comunitatea din care faci parte: \n\n\nresurse financiare semnificative ce pot fi atrase în teritoriu prin proiecte viabile şi bine fundamentate; \n\n\nsprijin real pentru dezvoltarea afacerii tale\, prin consiliere\, orientare şi oportunităţi adaptate mediului local; \n\n\nposibilitatea de a contribui direct la prosperitatea zonei\, prin idei şi iniţiative care generează progres şi coeziune socială. \n\n\nParticipând la întâlniri\, vei avea acces direct la INFORMAȚII ACTUALIZATE ŞI RELEVANTE DESPRE OPORTUNITĂȚILE DE FINANȚARE \nParticiparea este liberă și deschisă tuturor persoanelor interesate: reprezentanți ai autorităților locale\, antreprenori\, ONG-uri\, tineri\, femei și orice membru al comunității\, fiind bineveniţi toţi cei care doresc să se implice activ în dezvoltarea durabilă a comunităţii locale. \nÎmpreună\, putem construi un viitor mai bun pentru întreaga zonă Euro-Crişana. \nDacă nu poţi participa fizic la întâlniri şi/sau doreşti să contribui suplimentar\, vocea ta contează! \nNe poţi transmite în scris idei\, propuneri\, observații şi/sau solicitare de informaţii la adresa de email: parteneriat.eurocrisana@gmail.com. \nOrice sugestie este importantă\, fie că propui un proiect\, semnalezi o nevoie locală sau exprimi o opinie\, contribuţia ta ajută la îmbunătăţirea şi implementarea eficientă a Strategiei de Dezvoltare Locală Multifond 2023-2027.
URL:https://gal-eurocrisana.ro/calendar/invitatie-la-implicare-impreuna-pentru-dezvoltarea-locala-a-comunitatii-cociuba-mare/
LOCATION:Primaria Cociuba Mare\, str. Principala nr. 210\, Cociuba Mare\, Bihor\, Romania
ATTACH;FMTTYPE=image/jpeg:https://gal-eurocrisana.ro/wp-content/uploads/2025/11/WhatsApp-Image-2025-11-03-at-19.18.28.jpeg
END:VEVENT
BEGIN:VEVENT
DTSTART;TZID=Europe/Bucharest:20250919T170000
DTEND;TZID=Europe/Bucharest:20250919T200000
DTSTAMP:20260420T070118
CREATED:20250918T174247Z
LAST-MODIFIED:20251103T205127Z
UID:8119-1758301200-1758312000@gal-eurocrisana.ro
SUMMARY:Intalnire Cociuba Mare
DESCRIPTION:Parteneriatul public-privat EuroCrisana:\n\n\n… s-a reconstituit în anul 2023 ca o modalitate de COOPERARE între autoritatea publică şi sectorul privat\n\n\n… urmărește PROMOVAREA DEZVOLTĂRII LOCALE\n\n\n… trecerea de la DEZVOLTAREA de sus în jos la cea DE JOS ÎN SUS\, CU FUNDAMENT COMUNITAR ȘI VOLUNTAR …\n\n\n… trecerea de la ABORDAREA economistă la cea SOCIAL – ECONOMICĂ\n\n\n… trecerea de la hegemonia instituţiilor administraţiei locale la FLEXIBILITATEA ȘI EFICIENȚA PARTENERIATELOR\n\n\n… trecerea la O DEZBATERE SOLIDĂ DESPRE VIITOR … cu scenarii şi argumente … cu realism şi fără accente politice sau demagogice\n\n\n… întreaga COMUNITATE este INFORMATĂ\, în mod clar\, cu privire la obiectivele ce se doresc a fi atinse\,\n\n\n… se caută ÎMPREUNĂ mijloacele şi căile spre UN VIITOR COMUN şi AVANTAJOS.
URL:https://gal-eurocrisana.ro/calendar/intalnire-cociuba-mare/
LOCATION:Bihor
ATTACH;FMTTYPE=image/jpeg:https://gal-eurocrisana.ro/wp-content/uploads/2025/09/AFIS-1.jpg
END:VEVENT
BEGIN:VEVENT
DTSTART;TZID=Europe/Bucharest:20250918T170000
DTEND;TZID=Europe/Bucharest:20250918T200000
DTSTAMP:20260420T070118
CREATED:20250918T174116Z
LAST-MODIFIED:20251103T205127Z
UID:8117-1758214800-1758225600@gal-eurocrisana.ro
SUMMARY:Intalnire Șoimi
DESCRIPTION:18 Septembrie – Ziua Animării la Șoimi (pentru beneficiarii privați)\n\n\n Ne vedem mâine la Șoimi!\n\n\n 18 Septembrie | Ora 17:00 | Primăria Șoimi\n\n\n Întâlnirea de animare nu este doar o prezentare de oportunități\, ci și o șansă de a aduce împreună oamenii din comunitate\, ideile lor și dorința de a construi un viitor mai bun.\n\n\n La Șoimi\, credem că fiecare inițiativă contează:\n un antreprenor care își dezvoltă afacerea\,\n o femeie care își pune în valoare ideile\,\n un tânăr care alege să rămână aproape de casă.\n\n\n Fondurile europene pot fi motorul care să transforme aceste idei în proiecte concrete\, capabile să aducă locuri de muncă\, servicii mai bune și prosperitate pentru întreaga comunitate.\n\n\n Împreună\, cu autoritățile locale\, cu oamenii de afaceri\, cu organizațiile și cetățenii locului\, putem face din Șoimi o comună unde resursele se transformă în oportunități și unde fiecare are șansa să contribuie la schimbare.
URL:https://gal-eurocrisana.ro/calendar/intalnire-soimi/
LOCATION:Bihor
ATTACH;FMTTYPE=image/jpeg:https://gal-eurocrisana.ro/wp-content/uploads/2025/09/AFIS-1.jpg
END:VEVENT
BEGIN:VEVENT
DTSTART;TZID=Europe/Bucharest:20250917T170000
DTEND;TZID=Europe/Bucharest:20250917T200000
DTSTAMP:20260420T070118
CREATED:20250915T131151Z
LAST-MODIFIED:20251103T205127Z
UID:7687-1758128400-1758139200@gal-eurocrisana.ro
SUMMARY:Intalnire GAL Olcea
DESCRIPTION:17 Septembrie – “Ziua Animării” la Olcea (pentru beneficiarii privați)\n\n\n Mâine ajungem și în Comuna Olcea!\n\n\n 17 Septembrie | Ora 17:00 | Școala din Olcea (str. Principală nr. 229)\n\n\n Ce înseamnă o întâlnire de animare?\nEste momentul în care comunitatea locală se reunește pentru a descoperi cum ideile\, nevoile și inițiativele oamenilor pot fi sprijinite prin fonduri europene nerambursabile\, în cadrul Strategiei de Dezvoltare Locală 2023–2027.\n\n\n Și la Olcea\, întâlnirea de animare este despre fonduri europene nerambursabile și despre faptul că:\n Antreprenorii locali pot găsi resurse pentru a porni sau a-și diversifica afacerile\,\n Femeile cu inițiativă pot primi sprijin pentru a-și transforma ideile în realitate\,\n Tinerii pot afla că viitorul lor se poate construi chiar aici\, „acasă”\, dacă există curaj și încredere.\n\n\n Este un prilej de a afla concret ce tipuri de proiecte pot fi finanțate și cum poate fiecare locuitor să contribuie la dezvoltarea durabilă a zonei.\n\n\n Fondurile europene sunt mai mult decât resurse financiare … ele sunt șansa de a transforma ideile în realitate și comunitatea într-un loc mai prosper.\n\n\n Împreună\, cu administrația locală\, cu mediul privat și cu cetățenii\, putem scrie o nouă pagină pentru Olcea\, un exemplu de cooperare și progres pentru întreaga zonă Euro-Crișana!
URL:https://gal-eurocrisana.ro/calendar/intalnire-gal/
LOCATION:Intalnire Gal la Primaria Tinca\, Primariei 1\, Tinca\, Bihor\, Romania
ATTACH;FMTTYPE=image/jpeg:https://gal-eurocrisana.ro/wp-content/uploads/2025/09/AFIS-1.jpg
END:VEVENT
BEGIN:VEVENT
DTSTART;TZID=Europe/Bucharest:20250916T170000
DTEND;TZID=Europe/Bucharest:20250916T200000
DTSTAMP:20260420T070118
CREATED:20250918T173717Z
LAST-MODIFIED:20251103T205127Z
UID:8112-1758042000-1758052800@gal-eurocrisana.ro
SUMMARY:"Ziua Animării" la Mădăras
DESCRIPTION:16 Septembrie – “Ziua Animării” la Mădăras (pentru beneficiarii privați)\n\n\n Mâine ajungem și în Comuna Mădăras!\n\n\n 16 Septembrie | Ora 17:00 | Căminul Cultural Mădăras\n\n\n Ce este o “întâlnire de animare”? \nEste un concept specific programului LEADER și implementării Strategiilor de Dezvoltare Locală (SDL) prin Grupurile de Acțiune Locală (G.A.L.).\nEste o întâlnire organizată de G.A.L. cu actorii din teritoriu (autorități locale\, antreprenori\, ONG-uri\, cetățeni …) pentru a-i informa\, implica și motiva să participe la implementarea Strategiei și să acceseze fondurile europene disponibile.\n\n\n Întâlnirile de animare ale G.A.L. Euro-Crișana sunt despre curajul de a visa și puterea de a transforma visurile în proiecte concrete.\n\n\n Și la Mădăras deschidem ușa oportunităților pentru:\n antreprenorii locali care vor să aducă valoare în comunitate\,\n femeile cu inițiativă\, gata să își pună ideile în practică\,\n tinerii care cred într-un viitor construit aici\, “acasă”.\n\n\n Vino și tu să descoperi cum fondurile europene nerambursabile pot deveni instrumente pentru dezvoltare\, speranță și prosperitate.\n\n\n Împreună putem valorifica potențialul Comunei Mădăras\, alături de celelalte comunități partenere\, pentru a fi exemple de dezvoltare locală durabilă.
URL:https://gal-eurocrisana.ro/calendar/ziua-animarii-la-madaras/
LOCATION:Bihor
ATTACH;FMTTYPE=image/jpeg:https://gal-eurocrisana.ro/wp-content/uploads/2025/09/afis-1.jpg
END:VEVENT
BEGIN:VEVENT
DTSTART;TZID=Europe/Bucharest:20250915T170000
DTEND;TZID=Europe/Bucharest:20250915T220000
DTSTAMP:20260420T070118
CREATED:20250918T173621Z
LAST-MODIFIED:20251103T205127Z
UID:8109-1757955600-1757973600@gal-eurocrisana.ro
SUMMARY:Intalnire Tinca
DESCRIPTION:DĂM STARTUL ÎNTÂLNIRILOR DE ANIMARE!\n\n\n Asociația G.A.L. Euro-Crișana vă invită să luați parte la întâlnirile dedicate beneficiarilor privați din comunele Tinca\, Mădăras\, Olcea\, Șoimi și Cociuba Mare.\n\n\n Este momentul să aducem împreună ideile\, inițiativele și proiectele care pot contribui la dezvoltarea comunităților noastre rurale\, prin fonduri europene nerambursabile.\n\n\n Calendarul întâlnirilor este prezentat în afișul de mai jos – te așteptăm la sediile primăriilor și căminelor culturale pentru a descoperi cum poți beneficia de sprijinul G.A.L. Euro-Crișana!\n\n\n Europa investește în zonele rurale – hai să valorificăm împreună această șansă! \n\n\n Implică-te și tu! Arată că îți pasă de viitorul comunității tale!
URL:https://gal-eurocrisana.ro/calendar/intalnire-tinca/
LOCATION:Bihor
ATTACH;FMTTYPE=image/jpeg:https://gal-eurocrisana.ro/wp-content/uploads/2025/09/AFIS-1.jpg
END:VEVENT
END:VCALENDAR